BEGIN:VCALENDAR
VERSION:2.0
PRODID:-//360 Alumni//YMCA Hayo-Went-Ha Camps//EN
METHOD:REQUEST
BEGIN:VEVENT
UID:11426
DTSTAMP:20250801T210000Z
DTSTART:20250801T210000Z
DTEND:20250802T000000Z
LOCATION:YMCA Camp Hayo-Went-Ha
SUMMARY: HWH Camps Torch Lake Neighbor Event - annual event
DESCRIPTION: 
END:VEVENT
END:VCALENDAR
