BEGIN:VCALENDAR
VERSION:2.0
PRODID:-//360 Alumni//YMCA Hayo-Went-Ha Camps//EN
METHOD:REQUEST
BEGIN:VEVENT
UID:11428
DTSTAMP:20251025T040000Z
DTSTART:20251025T040000Z
DTEND:20251025T040000Z
LOCATION:Michigan State Stadium
SUMMARY: Alumni Tailgate - MSU v UM
DESCRIPTION: Please join us for the Annual YMCA Hayo-Went-Ha Camps Tailgate for the UM-MSU football game on Saturday, October 25, 2025. Meet up with camp friends, tell camp stories, engage in friendly rivalry banter and enjoy a fine Michigan fall afternoon.Kickoff has not been set yet but we will plan to meet 2 hours before kick off.Thank you to Jane Finn and her Dad for allowing us to use your parking space. Please look for the blue Hayo-Went-Ha flag and the green Arbutus Hayo-Went-Ha flag,&nbsp;in the 38/50 parking area (corner of Shaw Lane and Farm Lane) - right next to the International Center.&nbsp;There will be a limited number of specially made HWH Camps logo cookies. Please stop by and say hello.Go BlueGo GreenEach for All, All for Each* Buckeyes will be tolerated...
END:VEVENT
END:VCALENDAR
