BEGIN:VCALENDAR
VERSION:2.0
PRODID:-//360 Alumni//YMCA Hayo-Went-Ha Camps//EN
METHOD:REQUEST
BEGIN:VEVENT
UID:11429
DTSTAMP:20251114T000000Z
DTSTART:20251114T000000Z
DTEND:20251114T010000Z
LOCATION:Zoom
SUMMARY: State of the Flame - Keepers of the Flame kick off
DESCRIPTION: &nbsp;We&rsquo;re hosting a fun and informative Zoom update for our entire HWH Camps community&mdash;near and far!Join us to hear the latest news from your beloved YMCA Hayo-Went-Ha Camps. We&rsquo;re excited to share what&rsquo;s ahead, including plans for the future and exciting updates from both sides of the lake.Tonight also marks the official launch of our year-end campaign, supporting the heart of camp&mdash;operations, programming, and preservation.We hope you&rsquo;ll tune in and be part of the conversation as we look back with gratitude and forward with purpose.&nbsp;
END:VEVENT
END:VCALENDAR
