BEGIN:VCALENDAR
VERSION:2.0
PRODID:-//360 Alumni//YMCA Hayo-Went-Ha Camps//EN
METHOD:REQUEST
BEGIN:VEVENT
UID:11497
DTSTAMP:20260515T040000Z
DTSTART:20260515T040000Z
DTEND:20260517T040000Z
LOCATION:YMCA Camp Arbutus Hayo-Went-Ha
SUMMARY: Arbutus Hayo-Went-Ha Spring Spruce Up
DESCRIPTION: Thank you to all for considering volunteering for our annual&nbsp;Spring&nbsp;Spruce-Up&nbsp;Weekend. We are excited to welcome you and appreciate&nbsp;your&nbsp;help in getting camp looking its best for another incredible summer!Invite a Friend!We do have one friendly request:&nbsp;Please invite a Friend!&nbsp;We have a goal of increasing participation in this year&rsquo;s&nbsp;Spring&nbsp;Spruce-up&nbsp;by 20%. Is there someone you know who hasn&rsquo;t experienced a&nbsp;Spring&nbsp;Spruce-up&nbsp;in the past and would be able to join in the fun? If each of you would&nbsp;invite just one person&nbsp;to join us, we&rsquo;d more than exceed our goal.Kids Club is back!For families with young children (ages 5+), Kids Club will be running again this year. While parents help&nbsp;out&nbsp;with projects around camp, kids will enjoy supervised fun during the morning and afternoon work sessions.What to BringClothes you don&rsquo;t mind getting dirtyWork gloves if you have themAnd&nbsp;if you plan to spend the night at camp don&rsquo;t forget:Twin sheets or sleeping bag &amp; pillowTowel &amp; personal toiletriesWe&rsquo;ve got some great projects lined&nbsp;up, and&mdash;as the saying goes&mdash;many hands make light work. Whether you&rsquo;re organizing, painting, raking, or lending a hand with repairs,&nbsp;your&nbsp;time and talents are incredibly appreciated.&nbsp;If you have any questions or want to invite someone new to experience the magic of HWH, just reach&nbsp;out&nbsp;by phone or email.We can&rsquo;t wait to see you there! Thank you all so much for&nbsp;your&nbsp;support.
END:VEVENT
END:VCALENDAR
