BEGIN:VCALENDAR
VERSION:2.0
PRODID:-//360 Alumni//YMCA Hayo-Went-Ha Camps//EN
METHOD:REQUEST
BEGIN:VEVENT
UID:11498
DTSTAMP:20251115T190000Z
DTSTART:20251115T190000Z
DTEND:20251115T220000Z
LOCATION:MadTree Parks and Rec, Solarium Room
SUMMARY: Cincinnati Community Camp Family Event
DESCRIPTION: Bring the whole family and reconnect with YMCA Hayo-Went-Ha Camps! Meet alumni, staff, Board Members, and friends while enjoying food, fun, and fellowship.There will be a door prize, or two, friendly competitions, and games for all ages.Food &amp; Drinks: Charcuterie, wings, pizza, NA and a first beverage provided&nbsp;This is a casual, family-friendly afternoon designed to celebrate the community that makes HWH Camps so special.
END:VEVENT
END:VCALENDAR
