BEGIN:VCALENDAR
VERSION:2.0
PRODID:-//360 Alumni//YMCA Hayo-Went-Ha Camps//EN
METHOD:REQUEST
BEGIN:VEVENT
UID:11647
DTSTAMP:20260205T023000Z
DTSTART:20260205T023000Z
DTEND:20260205T040000Z
LOCATION:The Rabbit Hole
SUMMARY: Alumni event in the Chicago area
DESCRIPTION: Chicago HWH Camps Alumni After-hours Meet-UpWhen: Wednesday, February 4th, at 8:30PM CSTWhere: The Rabbit HoleAddress: 1208 N Wells St, Chicago, IL 60610Reconnect with fellow alumni, share cherished camp memories, and get the latest updates from our camp directors. This is the perfect chance to meet the new Camp Directors, enjoy great company, hear about the future of HWH Camps, and relive the magic of camp.
END:VEVENT
END:VCALENDAR
