BEGIN:VCALENDAR
VERSION:2.0
PRODID:-//360 Alumni//YMCA Hayo-Went-Ha Camps//EN
METHOD:REQUEST
BEGIN:VEVENT
UID:11662
DTSTAMP:20260219T003000Z
DTSTART:20260219T003000Z
DTEND:20260219T020000Z
LOCATION:Arthurs
SUMMARY: Cincinnati Area Alumni Gathering
DESCRIPTION: Reconnect with fellow&nbsp;alumni, share cherished camp memories, and get the latest updates from our camp directors. This is the perfect chance to meet the new Camp Directors, enjoy great company, hear about the future of HWH Camps, and relive the magic of camp.See you at Aurthur's anytime between 7.30pm - 10pm when they close.&nbsp;
END:VEVENT
END:VCALENDAR
