BEGIN:VCALENDAR
VERSION:2.0
PRODID:-//360 Alumni//YMCA Hayo-Went-Ha Camps//EN
METHOD:REQUEST
BEGIN:VEVENT
UID:11663
DTSTAMP:20260220T003000Z
DTSTART:20260220T003000Z
DTEND:20260220T020000Z
LOCATION:Rose Hill Lagerhaus
SUMMARY: Louisville Alumni Event
DESCRIPTION: Reconnect with fellow&nbsp;alumni, share cherished camp memories, and get the latest updates from our camp directors. This is the perfect chance to meet the new Camp Directors, enjoy great company, hear about the future of HWH Camps, and relive the magic of camp
END:VEVENT
END:VCALENDAR
