BEGIN:VCALENDAR
VERSION:2.0
PRODID:-//360 Alumni//YMCA Hayo-Went-Ha Camps//EN
METHOD:REQUEST
BEGIN:VEVENT
UID:11676
DTSTAMP:20260425T180000Z
DTSTART:20260425T180000Z
DTEND:20260425T180000Z
LOCATION:Hayo-Hike New York City
SUMMARY: Hayo-Hike New York City
DESCRIPTION: What is a Hayo-Hike? Hayo-Hike Day is a camp alumni and freinds event all about getting outside, connecting with others, and bringing our camp community together across the country. It helps build excitement for the Summer Dreams Campership Campaign and gives alumni a chance to reconnect, and support camp in a meaningful way.Join us in New York!Details include - The start and finish location will be at the Fred Lebow Statue located at east 90th Street and 5th Avenue, New York City. Starting at 2pm.We will be hiking about 2.6 miles.We would love to see you!
END:VEVENT
END:VCALENDAR
