BEGIN:VCALENDAR
VERSION:2.0
PRODID:-//360 Alumni//YMCA Hayo-Went-Ha Camps//EN
METHOD:REQUEST
BEGIN:VEVENT
UID:11677
DTSTAMP:20260425T130000Z
DTSTART:20260425T130000Z
DTEND:20260425T130000Z
LOCATION:Discovery Park North Parking Lot.
SUMMARY: Hayo-Hike Seattle, Washington
DESCRIPTION: What is a Hayo-Hike? Hayo-Hike Day is a camp alumni and friends event all about getting outside, connecting with others, and bringing our camp community together across the country. It helps build excitement for the Summer Dreams Campership Campaign and gives alumni a chance to reconnect, and support camp in a meaningful way.Join us in Seattle, Washington!Details include - Meet at the Discovery Park North Parking Lot. https://maps.app.goo.gl/fcbVafetqufbUb1G7&nbsp;We would love to see you!
END:VEVENT
END:VCALENDAR
