BEGIN:VCALENDAR
VERSION:2.0
PRODID:-//360 Alumni//YMCA Hayo-Went-Ha Camps//EN
METHOD:REQUEST
BEGIN:VEVENT
UID:11678
DTSTAMP:20260315T003000Z
DTSTART:20260315T003000Z
DTEND:20260315T030000Z
LOCATION:Edgewood Beer Garden 2508 Gray Street, Edgewood
SUMMARY: Denver Area Alumni and Camp Friends Get together
DESCRIPTION: Come and say hi and meet alumni and camp families from across the years.&nbsp;
END:VEVENT
END:VCALENDAR
